BEGIN:VCALENDAR
VERSION:2.0
PRODID:-//pretix//pretix.eu//
BEGIN:VEVENT
UID:pretix-brigittestyleday-2026-0@tickets.brigitte.de
DTSTART;VALUE=DATE:20261101
DTEND;VALUE=DATE:20261102
DESCRIPTION:Tickets: https://tickets.brigitte.de/2026/\nVeranstalter: Funke
  Women People & Family GmbH
DTSTAMP:20260422T232026Z
SUMMARY:BRIGITTE Style Day 2026
END:VEVENT
END:VCALENDAR
